BEGIN:VCALENDAR
VERSION:2.0
PRODID:-//CRIA 34 - ECPv5.1.4//NONSGML v1.0//EN
CALSCALE:GREGORIAN
METHOD:PUBLISH
X-WR-CALNAME:CRIA 34
X-ORIGINAL-URL:https://cria34.fr
X-WR-CALDESC:Évènements pour CRIA 34
BEGIN:VTIMEZONE
TZID:Europe/Helsinki
BEGIN:DAYLIGHT
TZOFFSETFROM:+0200
TZOFFSETTO:+0300
TZNAME:EEST
DTSTART:20260329T010000
END:DAYLIGHT
BEGIN:STANDARD
TZOFFSETFROM:+0300
TZOFFSETTO:+0200
TZNAME:EET
DTSTART:20261025T010000
END:STANDARD
END:VTIMEZONE
BEGIN:VEVENT
DTSTART;TZID=Europe/Helsinki:20260528T093000
DTEND;TZID=Europe/Helsinki:20260528T120000
DTSTAMP:20260426T003141
CREATED:20250425T082845Z
LAST-MODIFIED:20260211T092259Z
UID:4607-1779960600-1779969600@cria34.fr
SUMMARY:Bla Bla pédago : "ÉLABORER UN SCÉNARIO PÉDAGOGIQUE EN FONCTION DES PUBLICS ET DES NIVEAUX"
DESCRIPTION:Le bla-bla pédago est un espace de rencontre convivial\, régulier et thématique de 2h00 qui s’adresse aux acteurs de la formation (salariés ou bénévoles des structures de proximité ou organismes)\, qui peuvent être concerné(e)s par la maîtrise des compétences de base et de la langue française. Il se propose d’être un espace d’échanges sur des pratiques et des thématiques (avec l’aide d’un conseiller du centre de ressources) sur différents aspects :\nPostures et modes d’accompagnement ainsi que d’accueil des publics\,\nPublics cibles\, situations\, freins et besoins\, enjeux\,\nModèles et références didactiques \nOutils / supports\, activités pédagogiques mobilisés\,\nDispositifs et offres de formation sur le territoire \nPROGRAMME \nContexte\nUn scénario pédagogique est un ensemble qui inclue le déroulement d’une activité d’apprentissage\, la définition des objectifs\, la planification des tâches\, la description des tâches des apprenants et des modalités d’évaluation. Dans un scénario pédagogique\, l’enseignant / formateur précise les rôles\, les activités ainsi que les ressources et outils associés à la mise en œuvre des activités.\nLe scénario a donc un triple rôle : il définit précisément l’activité proposée aux apprenants sur l’objet pédagogique interactif ; il spécifie également le contrôle qui sera fait de la progression de l’apprenant durant cette activité ; il détermine enfin l’assistance pédagogique qui lui sera fournie automatiquement en fonction de sa progression.\nCette notion de scénario se retrouve donc dans celle de « séquence » et certaines approches pédagogiques (simulations globales\, « serious games »\, entrées culturelles et entrées par projets) ainsi que certaines certifications (le DCL FLE par exemple) usent de cette notion. \nContenus et modalités de travail\nObjectifs – Tâches – Scénario\nÉchanges avec les participant(e)s autour de leurs contextes pédagogiques\, des typologies des publics accompagnés et des projets déjà identifiés\nApports d’éléments autour de la notion de scénario pédagogique\nComment je fais d’habitude ?\nA partir des expériences des participant.e.s nous essaierons de rebondir et de dégager les points essentiels de leurs pratiques en matière d’élaboration de scénario d’apprentissage langagier\nComment je pourrais faire également et enrichir ma pratique ?\nAppropriation d’une méthodologie à travers l’élaboration (par petits groupes) d’une ébauche de scénario pédagogique adaptée aux publics et contextes respectifs de chacun.e. \n
URL:https://cria34.fr/agenda/bla-bla-pedago-elaborer-un-scenario-pedagogique-en-fonction-des-publics-et-des-niveaux/
LOCATION:En visio-conférence
CATEGORIES:Agenda
END:VEVENT
END:VCALENDAR